Workbook

Sheet 事業主控
D3: 組織様式第5号 | AM3: 労働保険料算定基礎賃金等の報告
D5: 住所 | H5: 〒 | AH5: 労働保険番号 | BS5: 令和 | BU5: 6 | BW5: 年度確定 | CB5: 令和 | CD5: =IF(BU5="","",BU5+1) -> 7 | CF5: 年度概算
AH6: 府県 | AJ6: 所掌 | AL6: 管轄 | AN6: 基幹番号 | AT6: 枝番 | AW6: 料変 | BI6: 3.事業の概要 | BV6: 4.特掲事業 | CI6: 5.新年度賃金見込額
BW7: 1 | BX7: 該当する | CD7: 2 | CJ7: 1 | CK7: 前年度と同額 | CS7: 1
BW8: 2 | BX8: 該当しない | CJ8: 2 | CK8: 前年度と変わる
D9: 事業場名 | AH9: 雇用保険事業所番号 | CI9: 労 | CS9: 千円
AH10: 1209- | AM10: - | AT10: - | CI10: 雇 | CS10: 千円
D11: 事業主名 | AA11: 殿 | BI11: 6.延納の申請
BJ12: 1 | BK12: 一括納付 | BQ12: 1 | CJ12: 3 委託解除年月日
M13: 事業場ＴＥＬ： | AH13: 事務組合名 | AO13: 船橋商工会議所 | BJ13: 2 | BK13: 分納（3回） | CL13: 年 | CO13: 月 | CR13: 日
AJ14: （TEL: | AM14: 047-435-8211 | AV14: )
D16: 項目 月別 | J16: 1. 労 災 保 険 及 び 一 般 拠 出 金 対 象 労 働 者 数 及 び 賃 金 | BC16: 2. 雇 用 保 険 対 象 被 保 険 者 数 及 び 賃 金
J17: (1) 常 用 労 働 者 | U17: (2) 役員で労働者扱いの者 | AF17: (3) 臨 時 労 働 者 | AQ17: (4) 合 計 | BC17: (5) 被 保 険 者 | BN17: (6) 役員で労働者扱いの者 | BY17: (7) 合 計
U18: (業務執行権を有する者の指示を 受け労働に従事し、賃金を得て いる者等) | AF18: (パートタイマー、アルバイト等) | AQ18: ( （１）+（２）+（３） ) | BC18: 日雇労働被保険者に支払った賃金を 含む。なお、パートタイマー、アルバイト等 雇用保険の被保険者とならない者を除く | BN18: 給与支払等の面からみて 労働者的性格の強い者 | BY18: ( （5）+（6） )
J20: 人員 | M20: 支 払 賃 金 | U20: 人員 | X20: 支 払 賃 金 | AF20: 人員 | AI20: 支 払 賃 金 | AQ20: 人員 | AT20: 支 払 賃 金 | BC20: 人員 | BF20: 支 払 賃 金 | BN20: 人員 | BQ20: 支 払 賃 金 | BY20: 人員 | CB20: 支 払 賃 金
G21: 4月 | L21: 人 | T21: 円 | W21: 人 | AE21: 円 | AH21: 人 | AP21: 円 | AQ21: =IF(AND(J21="",U21="",AF21=""),"",J21+U21+AF21) | AS21: 人 | AT21: =IF(AND(M21="",X21="",AI21=""),"",M21+X21+AI21) | BA21: 円 | BE21: 人 | BM21: 円 | BP21: 人 | BX21: 円 | BY21: =IF(AND(BC21="",BN21=""),"",BC21+BN21) | CA21: 人 | CB21: =IF(AND(BF21="",BQ21=""),"",BF21+BQ21) | CI21: 円
G22: 5月 | AQ22: =IF(AND(J22="",U22="",AF22=""),"",J22+U22+AF22) | AT22: =IF(AND(M22="",X22="",AI22=""),"",M22+X22+AI22) | BY22: =IF(AND(BC22="",BN22=""),"",BC22+BN22) | CB22: =IF(AND(BF22="",BQ22=""),"",BF22+BQ22) | DE22: 作成者氏名
G23: 6月 | AQ23: =IF(AND(J23="",U23="",AF23=""),"",J23+U23+AF23) | AT23: =IF(AND(M23="",X23="",AI23=""),"",M23+X23+AI23) | BY23: =IF(AND(BC23="",BN23=""),"",BC23+BN23) | CB23: =IF(AND(BF23="",BQ23=""),"",BF23+BQ23)
G24: 7月 | AQ24: =IF(AND(J24="",U24="",AF24=""),"",J24+U24+AF24) | AT24: =IF(AND(M24="",X24="",AI24=""),"",M24+X24+AI24) | BY24: =IF(AND(BC24="",BN24=""),"",BC24+BN24) | CB24: =IF(AND(BF24="",BQ24=""),"",BF24+BQ24)
G25: 8月 | AQ25: =IF(AND(J25="",U25="",AF25=""),"",J25+U25+AF25) | AT25: =IF(AND(M25="",X25="",AI25=""),"",M25+X25+AI25) | BY25: =IF(AND(BC25="",BN25=""),"",BC25+BN25) | CB25: =IF(AND(BF25="",BQ25=""),"",BF25+BQ25)
G26: 9月 | AQ26: =IF(AND(J26="",U26="",AF26=""),"",J26+U26+AF26) | AT26: =IF(AND(M26="",X26="",AI26=""),"",M26+X26+AI26) | BY26: =IF(AND(BC26="",BN26=""),"",BC26+BN26) | CB26: =IF(AND(BF26="",BQ26=""),"",BF26+BQ26)
G27: 10月 | AQ27: =IF(AND(J27="",U27="",AF27=""),"",J27+U27+AF27) | AT27: =IF(AND(M27="",X27="",AI27=""),"",M27+X27+AI27) | BY27: =IF(AND(BC27="",BN27=""),"",BC27+BN27) | CB27: =IF(AND(BF27="",BQ27=""),"",BF27+BQ27)
G28: 11月 | AQ28: =IF(AND(J28="",U28="",AF28=""),"",J28+U28+AF28) | AT28: =IF(AND(M28="",X28="",AI28=""),"",M28+X28+AI28) | BY28: =IF(AND(BC28="",BN28=""),"",BC28+BN28) | CB28: =IF(AND(BF28="",BQ28=""),"",BF28+BQ28)
G29: 12月 | AQ29: =IF(AND(J29="",U29="",AF29=""),"",J29+U29+AF29) | AT29: =IF(AND(M29="",X29="",AI29=""),"",M29+X29+AI29) | BY29: =IF(AND(BC29="",BN29=""),"",BC29+BN29) | CB29: =IF(AND(BF29="",BQ29=""),"",BF29+BQ29)
G30: 1月 | AQ30: =IF(AND(J30="",U30="",AF30=""),"",J30+U30+AF30) | AT30: =IF(AND(M30="",X30="",AI30=""),"",M30+X30+AI30) | BY30: =IF(AND(BC30="",BN30=""),"",BC30+BN30) | CB30: =IF(AND(BF30="",BQ30=""),"",BF30+BQ30)
G31: 2月 | AQ31: =IF(AND(J31="",U31="",AF31=""),"",J31+U31+AF31) | AT31: =IF(AND(M31="",X31="",AI31=""),"",M31+X31+AI31) | BY31: =IF(AND(BC31="",BN31=""),"",BC31+BN31) | CB31: =IF(AND(BF31="",BQ31=""),"",BF31+BQ31)
G32: 3月 | AQ32: =IF(AND(J32="",U32="",AF32=""),"",J32+U32+AF32) | AT32: =IF(AND(M32="",X32="",AI32=""),"",M32+X32+AI32) | BY32: =IF(AND(BC32="",BN32=""),"",BC32+BN32) | CB32: =IF(AND(BF32="",BQ32=""),"",BF32+BQ32)
D33: 賞与等 | I33: 月 | AQ33: =IF(AND(J33="",U33="",AF33=""),"",J33+U33+AF33) | AT33: =IF(AND(M33="",X33="",AI33=""),"",M33+X33+AI33) | BY33: =IF(AND(BC33="",BN33=""),"",BC33+BN33) | CB33: =IF(AND(BF33="",BQ33=""),"",BF33+BQ33)
D34: 賞与等 | I34: 月 | AQ34: =IF(AND(J34="",U34="",AF34=""),"",J34+U34+AF34) | AT34: =IF(AND(M34="",X34="",AI34=""),"",M34+X34+AI34) | BY34: =IF(AND(BC34="",BN34=""),"",BC34+BN34) | CB34: =IF(AND(BF34="",BQ34=""),"",BF34+BQ34)
D35: 賞与等 | I35: 月 | AQ35: =IF(AND(J35="",U35="",AF35=""),"",J35+U35+AF35) | AT35: =IF(AND(M35="",X35="",AI35=""),"",M35+X35+AI35) | BY35: =IF(AND(AR35="",BC35="",BN35=""),"",AR35+BC35+BN35) | CB35: =IF(AND(BF35="",BQ35=""),"",BF35+BQ35)
D36: 合計 | M36: =IF(SUM(M21:S35)=0,"",SUM(M21:S35)) | X36: =IF(SUM(X21:AD35)=0,"",SUM(X21:AD35)) | AI36: =IF(SUM(AI21:AO35)=0,"",SUM(AI21:AO35)) | AQ36: 1ヵ月平均 使用労働者数 | AT36: A | AU36: =IF(SUM(AT21:AZ35)=0,"",SUM(AT21:AZ35)) | BA36: 円 | BF36: =IF(SUM(BF21:BL35)=0,"",SUM(BF21:BL35)) | BQ36: =IF(SUM(BQ21:BW35)=0,"",SUM(BQ21:BW35)) | BY36: 1ヵ月平 均被保険者数 | CB36: B | CC36: =IF(SUM(CB21:CH35)=0,"",SUM(CB21:CH35)) | CI36: 円 | CM36: =IF(SUM(CM21:CS35)=0,"",SUM(CM21:CS35))
AQ37: =IF(SUM(AQ21:AR32)=0,0,IF(SUM(AQ21:AR32)<12,1,INT(SUM(AQ21:AR32)/12))) -> 0 | AS37: 人 | AT37: D | AU37: =IF(AU36="","",ROUNDDOWN(AU36/1000,0)) | BA37: 千円 | BY37: =IF(SUM(BY21:BZ32)=0,0,IF(SUM(BY21:BZ32)<12,1,INT(SUM(BY21:BZ32)/12))) -> 0 | CA37: 人 | CB37: E | CC37: =IF(CC36="","",ROUNDDOWN(CC36/1000,0)) | CI37: 千円
D39: ※8 | AQ39: a | AS39: 人 | AT39: d | AU39: =AU37 | BA39: 千円 | BY39: c | CA39: 人 | CB39: b | CC39: =CC37 | CI39: 千円 | CJ39: =CJ37 -> 0
AQ40: =AQ37 -> 0 | BY40: =BY37 -> 0
AU41: =AU37 | BA41: 千円 | CC41: =CC37 | CI41: 千円 | CM41: =CN37 -> 0
D44: 9.特別加入者の氏名 | Q44: 10.承認された 基礎日額 | V44: ※11 適用月数 | Z44: 12.希望する基礎日額 | AE44: 9.特別加入者の氏名 | AR44: 10.承認された 基礎日額 | AW44: ※11 適用月数 | BA44: 12.希望する基礎日額 | BF44: 9.特別加入者の氏名 | BS44: 10.承認された 基礎日額 | BX44: ※11 適用月数 | CB44: 12.希望する基礎日額
D46: 1 | U46: 円 | AC46: 円 | AE46: 2 | AV46: 円 | BD46: 円 | BW46: 円 | CE46: 円 | CI46: ※7.予備欄
AC47: 00 | BD47: 00 | CE47: 00 | CL47: 1期 | CT47: 円
U48: 円 | AC48: 円 | AV48: 円 | BD48: 円 | BW48: 円 | CE48: 円 | CL48: 2期 | CT48: 円
AC49: 00 | BD49: 00 | CE49: 00 | CL49: 3期 | CT49: 円
...

Sheet 事務組合控
D3: 組織様式第5号 | AM3: 労働保険料算定基礎賃金等の報告
D5: 住所 | H5: 〒 | J5: =事業主控!$J$5 -> 0 | AH5: 労働保険番号 | BS5: 令和 | BU5: =事業主控!$BU$5 -> 6 | BW5: 年度確定 | CB5: 令和 | CD5: =IF(BU5="","",BU5+1) -> 7 | CF5: 年度概算
AH6: 府県 | AJ6: 所掌 | AL6: 管轄 | AN6: 基幹番号 | AT6: 枝番 | AW6: 料変 | BI6: 3.事業の概要 | BV6: 4.特掲事業 | CI6: 5.新年度賃金見込額
J7: =事業主控!$J$7 -> 0 | AH7: =事業主控!AH7 -> 0 | AI7: =事業主控!AI7 -> 0 | AJ7: =事業主控!AJ7 -> 0 | AL7: =事業主控!AL7 -> 0 | AM7: =事業主控!AM7 -> 0 | AN7: =事業主控!AN7 -> 0 | AO7: =事業主控!AO7 -> 0 | AP7: =事業主控!AP7 -> 0 | AQ7: =事業主控!AQ7 -> 0 | AR7: =事業主控!AR7 -> 0 | AS7: =事業主控!AS7 -> 0 | ... AV7: =事業主控!AV7 -> 0 | AW7: =事業主控!$AW$7 -> 0 | BQ7: =事業主控!$BQ$7 -> 0 | BW7: 1 | BX7: 該当する | CD7: =事業主控!$CD$7 -> 2 | CJ7: 1 | CK7: 前年度と同額 | CS7: =事業主控!$CS$7 -> 1
BI8: =事業主控!$BI$8 -> 0 | BW8: 2 | BX8: 該当しない | CJ8: 2 | CK8: 前年度と変わる
D9: 事業場名 | J9: =事業主控!$J$9 -> 0 | AH9: 雇用保険事業所番号 | CI9: 労 | CJ9: =事業主控!CJ9 -> 0 | CS9: 千円
AH10: =事業主控!$AH$10 -> 1209- | AM10: - | AN10: =事業主控!$AN$10 -> 0 | AT10: - | AU10: =事業主控!$AU$10 -> 0 | CI10: 雇 | CJ10: =事業主控!CJ10 -> 0 | CS10: 千円
D11: 事業主名 | J11: =事業主控!$J$11 -> 0 | AA11: 殿 | BI11: 6.延納の申請
BJ12: 1 | BK12: 一括納付 | BQ12: =事業主控!$BQ$12 -> 1 | CJ12: 3 委託解除年月日
M13: 事業場ＴＥＬ： | T13: =事業主控!$T$13 -> 0 | AH13: 事務組合名 | AO13: =事業主控!$AO$13 -> 船橋商工会議所 | BJ13: 2 | BK13: 分納（3回） | CJ13: =事業主控!$CJ$13 -> 0 | CL13: 年 | CM13: =事業主控!$CM$13 -> 0 | CO13: 月 | CP13: =事業主控!$CP$13 -> 0 | CR13: 日
AJ14: （TEL: | AM14: =事業主控!$AM$14 -> 047-435-8211 | AV14: )
D16: 項目 月別 | J16: 1. 労 災 保 険 及 び 一 般 拠 出 金 対 象 労 働 者 数 及 び 賃 金 | BC16: 2. 雇 用 保 険 対 象 被 保 険 者 数 及 び 賃 金
J17: (1) 常 用 労 働 者 | U17: (2) 役員で労働者扱いの者 | AF17: (3) 臨 時 労 働 者 | AQ17: (4) 合 計 | BC17: (5) 被 保 険 者 | BN17: (6) 役員で労働者扱いの者 | BY17: (7) 合 計
U18: (業務執行権を有する者の指示を 受け労働に従事し、賃金を得て いる者等) | AF18: (パートタイマー、アルバイト等) | AQ18: ( （１）+（２）+（３） ) | BC18: 日雇労働被保険者に支払った賃金を 含む。なお、パートタイマー、アルバイト等 雇用保険の被保険者とならない者を除く | BN18: 給与支払等の面からみて 労働者的性格の強い者 | BY18: ( （5）+（6） )
J20: 人員 | M20: 支 払 賃 金 | U20: 人員 | X20: 支 払 賃 金 | AF20: 人員 | AI20: 支 払 賃 金 | AQ20: 人員 | AT20: 支 払 賃 金 | BC20: 人員 | BF20: 支 払 賃 金 | BN20: 人員 | BQ20: 支 払 賃 金 | BY20: 人員 | CB20: 支 払 賃 金
G21: 4月 | J21: =事業主控!J21 -> 0 | L21: 人 | M21: =事業主控!M21 -> 0 | T21: 円 | U21: =事業主控!U21 -> 0 | W21: 人 | X21: =事業主控!X21 -> 0 | AE21: 円 | AF21: =事業主控!AF21 -> 0 | AH21: 人 | AI21: =事業主控!AI21 -> 0 | AP21: 円 | AQ21: =IF(AND(J21="",U21="",AF21=""),"",J21+U21+AF21) -> 0 | AS21: 人 | AT21: =IF(AND(M21="",X21="",AI21=""),"",M21+X21+AI21) -> 0 | BA21: 円 | BC21: =事業主控!BC21 -> 0 | BE21: 人 | BF21: =事業主控!BF21 -> 0 | BM21: 円 | BN21: =事業主控!BN21 -> 0 | BP21: 人 | BQ21: =事業主控!BQ21 -> 0 | BX21: 円 | BY21: =IF(AND(BC21="",BN21=""),"",BC21+BN21) -> 0 | CA21: 人 | CB21: =IF(AND(BF21="",BQ21=""),"",BF21+BQ21) -> 0 | CI21: 円
G22: 5月 | J22: =事業主控!J22 -> 0 | M22: =事業主控!M22 -> 0 | U22: =事業主控!U22 -> 0 | X22: =事業主控!X22 -> 0 | AF22: =事業主控!AF22 -> 0 | AI22: =事業主控!AI22 -> 0 | AQ22: =IF(AND(J22="",U22="",AF22=""),"",J22+U22+AF22) -> 0 | AT22: =IF(AND(M22="",X22="",AI22=""),"",M22+X22+AI22) -> 0 | BC22: =事業主控!BC22 -> 0 | BF22: =事業主控!BF22 -> 0 | BN22: =事業主控!BN22 -> 0 | BQ22: =事業主控!BQ22 -> 0 | BY22: =IF(AND(BC22="",BN22=""),"",BC22+BN22) -> 0 | CB22: =IF(AND(BF22="",BQ22=""),"",BF22+BQ22) -> 0 | DE22: 作成者氏名
G23: 6月 | J23: =事業主控!J23 -> 0 | M23: =事業主控!M23 -> 0 | U23: =事業主控!U23 -> 0 | X23: =事業主控!X23 -> 0 | AF23: =事業主控!AF23 -> 0 | AI23: =事業主控!AI23 -> 0 | AQ23: =IF(AND(J23="",U23="",AF23=""),"",J23+U23+AF23) -> 0 | AT23: =IF(AND(M23="",X23="",AI23=""),"",M23+X23+AI23) -> 0 | BC23: =事業主控!BC23 -> 0 | BF23: =事業主控!BF23 -> 0 | BN23: =事業主控!BN23 -> 0 | BQ23: =事業主控!BQ23 -> 0 | BY23: =IF(AND(BC23="",BN23=""),"",BC23+BN23) -> 0 | CB23: =IF(AND(BF23="",BQ23=""),"",BF23+BQ23) -> 0
G24: 7月 | J24: =事業主控!J24 -> 0 | M24: =事業主控!M24 -> 0 | U24: =事業主控!U24 -> 0 | X24: =事業主控!X24 -> 0 | AF24: =事業主控!AF24 -> 0 | AI24: =事業主控!AI24 -> 0 | AQ24: =IF(AND(J24="",U24="",AF24=""),"",J24+U24+AF24) -> 0 | AT24: =IF(AND(M24="",X24="",AI24=""),"",M24+X24+AI24) -> 0 | BC24: =事業主控!BC24 -> 0 | BF24: =事業主控!BF24 -> 0 | BN24: =事業主控!BN24 -> 0 | BQ24: =事業主控!BQ24 -> 0 | BY24: =IF(AND(BC24="",BN24=""),"",BC24+BN24) -> 0 | CB24: =IF(AND(BF24="",BQ24=""),"",BF24+BQ24) -> 0
G25: 8月 | J25: =事業主控!J25 -> 0 | M25: =事業主控!M25 -> 0 | U25: =事業主控!U25 -> 0 | X25: =事業主控!X25 -> 0 | AF25: =事業主控!AF25 -> 0 | AI25: =事業主控!AI25 -> 0 | AQ25: =IF(AND(J25="",U25="",AF25=""),"",J25+U25+AF25) -> 0 | AT25: =IF(AND(M25="",X25="",AI25=""),"",M25+X25+AI25) -> 0 | BC25: =事業主控!BC25 -> 0 | BF25: =事業主控!BF25 -> 0 | BN25: =事業主控!BN25 -> 0 | BQ25: =事業主控!BQ25 -> 0 | BY25: =IF(AND(BC25="",BN25=""),"",BC25+BN25) -> 0 | CB25: =IF(AND(BF25="",BQ25=""),"",BF25+BQ25) -> 0
G26: 9月 | J26: =事業主控!J26 -> 0 | M26: =事業主控!M26 -> 0 | U26: =事業主控!U26 -> 0 | X26: =事業主控!X26 -> 0 | AF26: =事業主控!AF26 -> 0 | AI26: =事業主控!AI26 -> 0 | AQ26: =IF(AND(J26="",U26="",AF26=""),"",J26+U26+AF26) -> 0 | AT26: =IF(AND(M26="",X26="",AI26=""),"",M26+X26+AI26) -> 0 | BC26: =事業主控!BC26 -> 0 | BF26: =事業主控!BF26 -> 0 | BN26: =事業主控!BN26 -> 0 | BQ26: =事業主控!BQ26 -> 0 | BY26: =IF(AND(BC26="",BN26=""),"",BC26+BN26) -> 0 | CB26: =IF(AND(BF26="",BQ26=""),"",BF26+BQ26) -> 0 | DE26: =事業主控!$DE$26 -> 0
G27: 10月 | J27: =事業主控!J27 -> 0 | M27: =事業主控!M27 -> 0 | U27: =事業主控!U27 -> 0 | X27: =事業主控!X27 -> 0 | AF27: =事業主控!AF27 -> 0 | AI27: =事業主控!AI27 -> 0 | AQ27: =IF(AND(J27="",U27="",AF27=""),"",J27+U27+AF27) -> 0 | AT27: =IF(AND(M27="",X27="",AI27=""),"",M27+X27+AI27) -> 0 | BC27: =事業主控!BC27 -> 0 | BF27: =事業主控!BF27 -> 0 | BN27: =事業主控!BN27 -> 0 | BQ27: =事業主控!BQ27 -> 0 | BY27: =IF(AND(BC27="",BN27=""),"",BC27+BN27) -> 0 | CB27: =IF(AND(BF27="",BQ27=""),"",BF27+BQ27) -> 0
G28: 11月 | J28: =事業主控!J28 -> 0 | M28: =事業主控!M28 -> 0 | U28: =事業主控!U28 -> 0 | X28: =事業主控!X28 -> 0 | AF28: =事業主控!AF28 -> 0 | AI28: =事業主控!AI28 -> 0 | AQ28: =IF(AND(J28="",U28="",AF28=""),"",J28+U28+AF28) -> 0 | AT28: =IF(AND(M28="",X28="",AI28=""),"",M28+X28+AI28) -> 0 | BC28: =事業主控!BC28 -> 0 | BF28: =事業主控!BF28 -> 0 | BN28: =事業主控!BN28 -> 0 | BQ28: =事業主控!BQ28 -> 0 | BY28: =IF(AND(BC28="",BN28=""),"",BC28+BN28) -> 0 | CB28: =IF(AND(BF28="",BQ28=""),"",BF28+BQ28) -> 0
G29: 12月 | J29: =事業主控!J29 -> 0 | M29: =事業主控!M29 -> 0 | U29: =事業主控!U29 -> 0 | X29: =事業主控!X29 -> 0 | AF29: =事業主控!AF29 -> 0 | AI29: =事業主控!AI29 -> 0 | AQ29: =IF(AND(J29="",U29="",AF29=""),"",J29+U29+AF29) -> 0 | AT29: =IF(AND(M29="",X29="",AI29=""),"",M29+X29+AI29) -> 0 | BC29: =事業主控!BC29 -> 0 | BF29: =事業主控!BF29 -> 0 | BN29: =事業主控!BN29 -> 0 | BQ29: =事業主控!BQ29 -> 0 | BY29: =IF(AND(BC29="",BN29=""),"",BC29+BN29) -> 0 | CB29: =IF(AND(BF29="",BQ29=""),"",BF29+BQ29) -> 0
G30: 1月 | J30: =事業主控!J30 -> 0 | M30: =事業主控!M30 -> 0 | U30: =事業主控!U30 -> 0 | X30: =事業主控!X30 -> 0 | AF30: =事業主控!AF30 -> 0 | AI30: =事業主控!AI30 -> 0 | AQ30: =IF(AND(J30="",U30="",AF30=""),"",J30+U30+AF30) -> 0 | AT30: =IF(AND(M30="",X30="",AI30=""),"",M30+X30+AI30) -> 0 | BC30: =事業主控!BC30 -> 0 | BF30: =事業主控!BF30 -> 0 | BN30: =事業主控!BN30 -> 0 | BQ30: =事業主控!BQ30 -> 0 | BY30: =IF(AND(BC30="",BN30=""),"",BC30+BN30) -> 0 | CB30: =IF(AND(BF30="",BQ30=""),"",BF30+BQ30) -> 0
G31: 2月 | J31: =事業主控!J31 -> 0 | M31: =事業主控!M31 -> 0 | U31: =事業主控!U31 -> 0 | X31: =事業主控!X31 -> 0 | AF31: =事業主控!AF31 -> 0 | AI31: =事業主控!AI31 -> 0 | AQ31: =IF(AND(J31="",U31="",AF31=""),"",J31+U31+AF31) -> 0 | AT31: =IF(AND(M31="",X31="",AI31=""),"",M31+X31+AI31) -> 0 | BC31: =事業主控!BC31 -> 0 | BF31: =事業主控!BF31 -> 0 | BN31: =事業主控!BN31 -> 0 | BQ31: =事業主控!BQ31 -> 0 | BY31: =IF(AND(BC31="",BN31=""),"",BC31+BN31) -> 0 | CB31: =IF(AND(BF31="",BQ31=""),"",BF31+BQ31) -> 0
G32: 3月 | J32: =事業主控!J32 -> 0 | M32: =事業主控!M32 -> 0 | U32: =事業主控!U32 -> 0 | X32: =事業主控!X32 -> 0 | AF32: =事業主控!AF32 -> 0 | AI32: =事業主控!AI32 -> 0 | AQ32: =IF(AND(J32="",U32="",AF32=""),"",J32+U32+AF32) -> 0 | AT32: =IF(AND(M32="",X32="",AI32=""),"",M32+X32+AI32) -> 0 | BC32: =事業主控!BC32 -> 0 | BF32: =事業主控!BF32 -> 0 | BN32: =事業主控!BN32 -> 0 | BQ32: =事業主控!BQ32 -> 0 | BY32: =IF(AND(BC32="",BN32=""),"",BC32+BN32) -> 0 | CB32: =IF(AND(BF32="",BQ32=""),"",BF32+BQ32) -> 0
D33: 賞与等 | G33: =事業主控!G33 -> 0 | I33: 月 | J33: =事業主控!J33 -> 0 | M33: =事業主控!M33 -> 0 | U33: =事業主控!U33 -> 0 | X33: =事業主控!X33 -> 0 | AF33: =事業主控!AF33 -> 0 | AI33: =事業主控!AI33 -> 0 | AQ33: =IF(AND(J33="",U33="",AF33=""),"",J33+U33+AF33) -> 0 | AT33: =IF(AND(M33="",X33="",AI33=""),"",M33+X33+AI33) -> 0 | BC33: =事業主控!BC33 -> 0 | BF33: =事業主控!BF33 -> 0 | BN33: =事業主控!BN33 -> 0 | BQ33: =事業主控!BQ33 -> 0 | BY33: =IF(AND(BC33="",BN33=""),"",BC33+BN33) -> 0 | CB33: =IF(AND(BF33="",BQ33=""),"",BF33+BQ33) -> 0
D34: 賞与等 | G34: =事業主控!G34 -> 0 | I34: 月 | J34: =事業主控!J34 -> 0 | M34: =事業主控!M34 -> 0 | U34: =事業主控!U34 -> 0 | X34: =事業主控!X34 -> 0 | AF34: =事業主控!AF34 -> 0 | AI34: =事業主控!AI34 -> 0 | AQ34: =IF(AND(J34="",U34="",AF34=""),"",J34+U34+AF34) -> 0 | AT34: =IF(AND(M34="",X34="",AI34=""),"",M34+X34+AI34) -> 0 | BC34: =事業主控!BC34 -> 0 | BF34: =事業主控!BF34 -> 0 | BN34: =事業主控!BN34 -> 0 | BQ34: =事業主控!BQ34 -> 0 | BY34: =IF(AND(BC34="",BN34=""),"",BC34+BN34) -> 0 | CB34: =IF(AND(BF34="",BQ34=""),"",BF34+BQ34) -> 0
D35: 賞与等 | G35: =事業主控!G35 -> 0 | I35: 月 | J35: =事業主控!J35 -> 0 | M35: =事業主控!M35 -> 0 | U35: =事業主控!U35 -> 0 | X35: =事業主控!X35 -> 0 | AF35: =事業主控!AF35 -> 0 | AI35: =事業主控!AI35 -> 0 | AQ35: =IF(AND(J35="",U35="",AF35=""),"",J35+U35+AF35) -> 0 | AT35: =IF(AND(M35="",X35="",AI35=""),"",M35+X35+AI35) -> 0 | BC35: =事業主控!BC35 -> 0 | BF35: =事業主控!BF35 -> 0 | BN35: =事業主控!BN35 -> 0 | BQ35: =事業主控!BQ35 -> 0 | BY35: =IF(AND(AR35="",BC35="",BN35=""),"",AR35+BC35+BN35) -> 0 | CB35: =IF(AND(BF35="",BQ35=""),"",BF35+BQ35) -> 0
D36: 合計 | M36: =IF(SUM(M21:S35)=0,"",SUM(M21:S35)) | X36: =IF(SUM(X21:AD35)=0,"",SUM(X21:AD35)) | AI36: =IF(SUM(AI21:AO35)=0,"",SUM(AI21:AO35)) | AQ36: 1ヵ月平均 使用労働者数 | AT36: A | AU36: =IF(SUM(AT21:AZ35)=0,"",SUM(AT21:AZ35)) | BA36: 円 | BF36: =IF(SUM(BF21:BL35)=0,"",SUM(BF21:BL35)) | BQ36: =IF(SUM(BQ21:BW35)=0,"",SUM(BQ21:BW35)) | BY36: 1ヵ月平 均被保険者数 | CB36: B | CC36: =IF(SUM(CB21:CH35)=0,"",SUM(CB21:CH35)) | CI36: 円 | CJ36: =IF(SUM(CJ21:CK32)=0,0,IF(SUM(CJ21:CK32)<12,1,INT(SUM(CJ21:CK32)/12))) -> 0 | CM36: =IF(SUM(CM21:CS35)=0,"",SUM(CM21:CS35))
AQ37: =IF(SUM(AQ21:AR32)=0,0,IF(SUM(AQ21:AR32)<12,1,INT(SUM(AQ21:AR32)/12))) -> 0 | AS37: 人 | AT37: D | AU37: =IF(AU36="","",ROUNDDOWN(AU36/1000,0)) | BA37: 千円 | BY37: =IF(SUM(BY21:BZ32)=0,0,IF(SUM(BY21:BZ32)<12,1,INT(SUM(BY21:BZ32)/12))) -> 0 | CA37: 人 | CB37: E | CC37: =IF(CC36="","",ROUNDDOWN(CC36/1000,0)) | CI37: 千円 | CM37: =IF(CM36="","",ROUNDDOWN(CM36/1000,0))
D39: ※8 | AQ39: a | AS39: 人 | AT39: d | AU39: =AU37 | BA39: 千円 | BY39: c | CA39: 人 | CB39: b | CC39: =CC37 | CI39: 千円 | CJ39: =CJ36 -> 0
AQ40: =AQ37 -> 0 | BY40: =BY37 -> 0
AU41: =AU37 | BA41: 千円 | CC41: =CC37 | CI41: 千円 | CM41: =CM37
D44: 9.特別加入者の氏名 | Q44: 10.承認された 基礎日額 | V44: ※11 適用月数 | Z44: 12.希望する基礎日額 | AE44: 9.特別加入者の氏名 | AR44: 10.承認された 基礎日額 | AW44: ※11 適用月数 | BA44: 12.希望する基礎日額 | BF44: 9.特別加入者の氏名 | BS44: 10.承認された 基礎日額 | BX44: ※11 適用月数 | CB44: 12.希望する基礎日額
F46: =事業主控!F46 -> 0 | Q46: =事業主控!Q46 -> 0 | U46: 円 | Z46: =事業主控!Z46 -> 0 | AC46: 円 | AG46: =事業主控!AG46 -> 0 | AR46: =事業主控!AR46 -> 0 | AV46: 円 | BA46: =事業主控!BA46 -> 0 | BD46: 円 | BH46: =事業主控!BH46 -> 0 | BS46: =事業主控!BS46 -> 0 | BW46: 円 | CB46: =事業主控!CB46 -> 0 | CE46: 円 | CI46: ※7.予備欄
X47: =事業主控!$X$47 -> 0 | AC47: 00 | AY47: =事業主控!$AY$47 -> 0 | BD47: 00 | BZ47: =事業主控!$BZ$47 -> 0 | CE47: 00 | CL47: 1期 | CN47: =事業主控!CN47 -> 0 | CT47: 円
F48: =事業主控!F48 -> 0 | Q48: =事業主控!Q48 -> 0 | U48: 円 | Z48: =事業主控!Z48 -> 0 | AC48: 円 | AG48: =事業主控!AG48 -> 0 | AR48: =事業主控!AR48 -> 0 | AV48: 円 | BA48: =事業主控!BA48 -> 0 | BD48: 円 | BH48: =事業主控!BH48 -> 0 | BS48: =事業主控!BS48 -> 0 | BW48: 円 | CB48: =事業主控!CB48 -> 0 | CE48: 円 | CL48: 2期 | CN48: =事業主控!CN48 -> 0 | CT48: 円
X49: =事業主控!$X$49 -> 0 | AC49: 00 | AY49: =事業主控!$AY$49 -> 0 | BD49: 00 | BZ49: =事業主控!$BZ$49 -> 0 | CE49: 00 | CL49: 3期 | CN49: =事業主控!CN49 -> 0 | CT49: 円
...

Sheet 作成に当たっての留意事項
A1: 「労働保険料等算定基礎賃金等の報告」作成に当たっての留意事項
K2: 賃金総額
L3: 賃金とは、賃金、給与、手当、賞与など名称のいかんを問わず労働の対償として事業主が労働者に支払うす べてのものをいい、一般的には、労働協約、就業規則、労働契約などにより、その支払が事業主に義務づけら れているものです。 また、現物給付については、原則として所定の現金給与の代わりに支給するもの、つまり、その支給によって 現金給付が減額されるものや労働協約において支給が約束されているものは賃金となります。 このような現物給付でも、代金を徴収するものや福利厚生とみなされるものは原則として賃金とはなりません。 なお、具体的な取扱いについては、次の事項を参照してください。
A6: 労 働 者
A9: 区分 | B9: 労 災 保 険 | F9: 雇 用 保 険 | K9: 1. 算入するもの（例示）
B10: ㋑ 法人の取締役・理事・無限責任社員等の地位にある者であっても、法令・定款等の規定に基づいて業務執行権を有すると認められる者以外の者で、事実上業務執行権を有する取締役・理事・代表社員等の指揮監督を受けて労働に従事し、その代償として賃金を得ている者は、原則として「労働者」として取り扱います。 | F10: 原則として被保険者となりません。
F11: 取締役で部長・工場長等の職にあって従業員としての身分があり、給与支払の面からみても労働者的性格が強く雇用関係が明確な者は被保険者となります。 | K11: 支 給 金 銭 等 の 種 類 | N11: 内 容
A12: 法人の役員等 | K12: 基本給、固定給等基本賃金 | N12: 時間給・日給・月給、臨時・日雇労働者、パート、アルバイトに支払う賃金
F13: ただし監査役、監事は除きます。 | K13: 超過勤務手当、深夜手当、休日手当等 | N13: 通常の勤務時間以外の労働に対して支払われる残業手当等
K14: 扶養手当、子供手当、家族手当等 | N14: 労働者本人以外の者について支払われる手当
B15: ㋺ 法令又は定款の規定によっては業務執行権を有しないと認められる取締役等であっても、取締役会規則その他内部規定によって業務執行権を有する者と認められる者は「労働者」として取り扱いません。 | K15: 宿直・日直手当
K16: 役職手当、管理職手当等
K17: 地域手当 | N17: 寒冷地手当、地方手当等
B18: ㋩ 監査役及び監事は法令上使用人を兼ねることを得ないものとされていますが、事実上一般の労働者と同様に賃金を得て労働に従事している場合には、「労働者」として取り扱います。 | K18: 住宅手当
K19: 教育手当
K20: 単身赴任手当
B21: 同居の親族は原則として労災保険上の「労働者」に該当しませんが、同居の親族であっても、常時同居の親族以外の労働者を使用する事業において一般事務又は現場作業等に従事し、かつ次の条件を満たすものは労災保険上の「労働者」として取り扱います。 | F21: 原則として被保険者となりません。 | K21: 技能手当
F22: ただし、次の条件を満たしていれば被保険者となりますが、公共職業安定所へ雇用の実態を確認できる書類等の提出が必要となります。 | K22: 特殊作業手当 | N22: 危険有害業務手当、臨時緊急業務手当等
K23: 奨励手当 | N23: 精勤・皆勤手当等
A24: 同居の親族 | F24: ①業務を行うにつき、事業主の指揮命令に従っていることが明確であること | K24: 物価手当
B25: ㋑ 業務を行うにつき事業主の指揮命令に従っていることが明確であること。 | K25: 調整手当 | N25: 配置転換、初任給等の調整手当等
F26: ②就労の実態が当該事務所における他の労働者と同様であり、賃金もこれに応じて支払われていること。特に始業及び就業の時刻、休憩時間、休日、休暇等、また賃金の決定、計算及び支払方法、賃金の締切、及び支払いの時期等について就業規則その他これに準ずるものに定めるところにより、その管理が他の労働者と同様になされていること | K26: 賞与 | N26: 夏季・年末などに支払うボーナス
B27: ㋺ 就労の実態が当該事業場における他の労働者と同様であり、賃金もこれに応じて支払われていること。特に(i)始業及び就業の時刻、休憩時間、休日、休暇等及び(ii)賃金の決定、計算及び支払の方法、賃金の締切り及び支払の時期等について就業規則その他これに準ずるものに定めるところにより、その管理が他の労働者と同様になされていること。 | K27: 通勤手当 | N27: 非課税分も含む
K28: 定期券、回数券等 | N28: 通勤のために支給される現物給与
K29: 休業手当 | N29: 労働基準法第26条の規定に基づくもの
K30: 創立記念日等の祝金 | N30: 恩恵的なものではなく、かつ、全労働者又は相当多数に支給される場合
F31: ③事業主と利益を一にする地位（役員等）にないこと | K31: チップ | N31: 奉仕料の配分として事業主から受けるもの
K32: 雇用保険料その他社会保険料 | N32: 労働者の負担分を事業主が負担する場合
A33: (パート・タイマー) 短時間就労者 | B33: すべて「労働者」として対象となります。 | F33: 次のいずれにも該当するもので、その者の労働時間、その他の労働条件が就業規則（就業規則の届出義務が課せられていない事業所にあって、それに準ずる規定等）において明確に定められていると認められる場合は、被保険者となります。 | K33: 住居の利益 | N33: 社宅等の貸与を行っている場合、貸与を受けない者に対し均衡上住宅手当を支給する場合
K34: いわゆる前払い退職金 | N34: 労働者が在職中に、退職金相当額の全部又は一部を給与や賞与に上乗せするなど前払いされるもの
K36: 2. 算入しないもの（例示）
F37: ① 1週間の労働時間が20時間以上
F38: ② 反復継続して就労する者（31日以上継続して雇用 されることが見込まれる者） | K38: 支 給 金 銭 等 の 種 類 | N38: 内 容
K39: 休業補償費 | N39: 法定額を上回る差額分を含む
A40: 派遣労働者 | B40: すべて「労働者」として対象となります。 | F40: 登録型派遣労働者については、同一の派遣元において、次のいずれにも該当するものについては、被保険者となります。 | K40: 結婚祝金 | N40: 就業規則、労働協約等に定めのあるとないとを問わない
K41: 死亡弔慰金 | N41: 就業規則、労働協約等に定めのあるとないとを問わない
K42: 災害見舞金 | N42: 就業規則、労働協約等に定めのあるとないとを問わない
F43: ① 1週間の労働時間が20時間以上 | K43: 解雇予告手当 | N43: 労働基準法第20条の規定に基づくもの
F44: ② 反復継続して派遣就業する者（31日以上継続して 同一派遣元に雇用されることが見込まれる者等） | K44: 年功慰労金 | N44: 就業規則、労働協約等に定めのあるとないとを問わない
K45: 出張旅費・宿泊費等 | N45: 実質弁償的なもの
...
